BEGIN:VCALENDAR
VERSION:2.0
PRODID:-//Resapol - ECPv6.3.1//NONSGML v1.0//EN
CALSCALE:GREGORIAN
METHOD:PUBLISH
X-WR-CALNAME:Resapol
X-ORIGINAL-URL:https://www.resapol.com
X-WR-CALDESC:Events for Resapol
REFRESH-INTERVAL;VALUE=DURATION:PT1H
X-Robots-Tag:noindex
X-PUBLISHED-TTL:PT1H
BEGIN:VTIMEZONE
TZID:Europe/London
BEGIN:DAYLIGHT
TZOFFSETFROM:+0000
TZOFFSETTO:+0100
TZNAME:BST
DTSTART:20250330T010000
END:DAYLIGHT
BEGIN:STANDARD
TZOFFSETFROM:+0100
TZOFFSETTO:+0000
TZNAME:GMT
DTSTART:20251026T010000
END:STANDARD
END:VTIMEZONE
BEGIN:VEVENT
DTSTART;TZID=Europe/London:20250702T100000
DTEND;TZID=Europe/London:20250702T130000
DTSTAMP:20260420T051657
CREATED:20250609T100349Z
LAST-MODIFIED:20250609T100349Z
UID:33686-1751450400-1751461200@www.resapol.com
SUMMARY:Natural Cement Training – Resapol Bristol
DESCRIPTION:You are invited to join us for Natural Cement training at the Resapol Britol Depot! \nThe training will include classroom and practical demonstrations covering the benefits and application of Natural Cement’s environmentally friendly products. \nOne session is available to book and refreshments are provided. The session will run from 10:00am until 1:00pm. \nEnquire Now
URL:https://www.resapol.com/event/natural-cement-training-resapol-bristol/
LOCATION:Resapol Bristol\, Unit 2\, City Business Park\, Easton Road\, Bristol\, BS5 0SP\, United Kingdom
ATTACH;FMTTYPE=image/jpeg:https://www.resapol.com/wp-content/uploads/2025/06/Natcem-Web-Training.jpg
END:VEVENT
END:VCALENDAR