BEGIN:VCALENDAR
VERSION:2.0
PRODID:-//Resapol - ECPv6.3.1//NONSGML v1.0//EN
CALSCALE:GREGORIAN
METHOD:PUBLISH
X-ORIGINAL-URL:https://www.resapol.com
X-WR-CALDESC:Events for Resapol
REFRESH-INTERVAL;VALUE=DURATION:PT1H
X-Robots-Tag:noindex
X-PUBLISHED-TTL:PT1H
BEGIN:VTIMEZONE
TZID:Europe/London
BEGIN:DAYLIGHT
TZOFFSETFROM:+0000
TZOFFSETTO:+0100
TZNAME:BST
DTSTART:20260329T010000
END:DAYLIGHT
BEGIN:STANDARD
TZOFFSETFROM:+0100
TZOFFSETTO:+0000
TZNAME:GMT
DTSTART:20261025T010000
END:STANDARD
END:VTIMEZONE
BEGIN:VEVENT
DTSTART;TZID=Europe/London:20260304T100000
DTEND;TZID=Europe/London:20260304T120000
DTSTAMP:20260419T163249
CREATED:20260209T105239Z
LAST-MODIFIED:20260210T084400Z
UID:36198-1772618400-1772625600@www.resapol.com
SUMMARY:Normet Training – Resapol Southampton
DESCRIPTION:You are invited to join us for Normet training at the Resapol Southampton Depot! \nThe training will include classroom and practical demonstrations covering a range of Normet products and systems. \nThe session is FREE and available to book. The session will run from 10:00am until 12:00pm. \nEnquire Now
URL:https://www.resapol.com/event/normet-training-resapol-southampton/
LOCATION:Resapol Southampton\, Unit 10\, Southampton Trade Park\, Third Avenue\, Southampton\, SO15 0AD\, United Kingdom
ATTACH;FMTTYPE=image/png:https://www.resapol.com/wp-content/uploads/2026/02/Website-Event-Headers.png
END:VEVENT
END:VCALENDAR