BEGIN:VCALENDAR
VERSION:2.0
PRODID:-//Resapol - ECPv6.3.1//NONSGML v1.0//EN
CALSCALE:GREGORIAN
METHOD:PUBLISH
X-ORIGINAL-URL:https://www.resapol.com
X-WR-CALDESC:Events for Resapol
REFRESH-INTERVAL;VALUE=DURATION:PT1H
X-Robots-Tag:noindex
X-PUBLISHED-TTL:PT1H
BEGIN:VTIMEZONE
TZID:Europe/London
BEGIN:DAYLIGHT
TZOFFSETFROM:+0000
TZOFFSETTO:+0100
TZNAME:BST
DTSTART:20250330T010000
END:DAYLIGHT
BEGIN:STANDARD
TZOFFSETFROM:+0100
TZOFFSETTO:+0000
TZNAME:GMT
DTSTART:20251026T010000
END:STANDARD
END:VTIMEZONE
BEGIN:VEVENT
DTSTART;TZID=Europe/London:20250313T080000
DTEND;TZID=Europe/London:20250313T130000
DTSTAMP:20260420T101308
CREATED:20250131T100204Z
LAST-MODIFIED:20250131T100345Z
UID:33055-1741852800-1741870800@www.resapol.com
SUMMARY:Sika Roofing Demonstration – Resapol Southampton
DESCRIPTION:You are invited to join us for a Sika Roofing Demonstration at the Resapol Southampton Depot! \nThe practical demonstration will cover Sikalastic® D-10 RoofPro – a one-component\, cold applied\, moisture-triggered polyurethane membrane. \nOne session is available to book and sandwiches and refreshements are provided. The session will run from 8:00am until 1:00pm. \nEnquire Now
URL:https://www.resapol.com/event/sika-roofing-demonstration-resapol-southampton/
LOCATION:Resapol Southampton\, Unit 10\, Southampton Trade Park\, Third Avenue\, Southampton\, SO15 0AD\, United Kingdom
ATTACH;FMTTYPE=image/jpeg:https://www.resapol.com/wp-content/uploads/2025/01/Sikalastic-D10-demo-header-2000x1765-1.jpg
END:VEVENT
END:VCALENDAR