BEGIN:VCALENDAR
VERSION:2.0
PRODID:-//Resapol - ECPv6.3.1//NONSGML v1.0//EN
CALSCALE:GREGORIAN
METHOD:PUBLISH
X-ORIGINAL-URL:https://www.resapol.com
X-WR-CALDESC:Events for Resapol
REFRESH-INTERVAL;VALUE=DURATION:PT1H
X-Robots-Tag:noindex
X-PUBLISHED-TTL:PT1H
BEGIN:VTIMEZONE
TZID:Europe/London
BEGIN:DAYLIGHT
TZOFFSETFROM:+0000
TZOFFSETTO:+0100
TZNAME:BST
DTSTART:20240331T010000
END:DAYLIGHT
BEGIN:STANDARD
TZOFFSETFROM:+0100
TZOFFSETTO:+0000
TZNAME:GMT
DTSTART:20241027T010000
END:STANDARD
END:VTIMEZONE
BEGIN:VEVENT
DTSTART;TZID=Europe/London:20241002T100000
DTEND;TZID=Europe/London:20241002T130000
DTSTAMP:20260424T123646
CREATED:20240916T105700Z
LAST-MODIFIED:20240918T131148Z
UID:32329-1727863200-1727874000@www.resapol.com
SUMMARY:weber Product Demo Day – Resapol Stockton
DESCRIPTION:You are invited to join us for the weber Product Demo Day at the Resapol Stockton Depot. \nThe session will include hands on product demonstrations for weber’s key concrete repair & flooring products: \nwebercem bondcoat | webertec ZA60 / ZA100 Anodes | webercem R4 duo | webercote smooth | webercem advanced precision grout | webercem advanced repair concrete | weberfloor 4640 | weberfloor MVS | weberfloor DPM Pro \nThis morning session will run from 10:00am until 13:00pm on 2nd October. \nEnquire Now
URL:https://www.resapol.com/event/weber-product-demo-day-resapol-stockton/
LOCATION:Resapol Stockton\, Unit A\, Lustrum Trade Park\, Cheltenham Road\, Portrack Lane\,\, Stockton-on-Tees\, TS18 2QQ\, United Kingdom
ATTACH;FMTTYPE=image/png:https://www.resapol.com/wp-content/uploads/2024/09/weber-training-header.png
END:VEVENT
END:VCALENDAR