BEGIN:VCALENDAR
VERSION:2.0
PRODID:-//Resapol - ECPv6.3.1//NONSGML v1.0//EN
CALSCALE:GREGORIAN
METHOD:PUBLISH
X-ORIGINAL-URL:https://www.resapol.com
X-WR-CALDESC:Events for Resapol
REFRESH-INTERVAL;VALUE=DURATION:PT1H
X-Robots-Tag:noindex
X-PUBLISHED-TTL:PT1H
BEGIN:VTIMEZONE
TZID:Europe/London
BEGIN:DAYLIGHT
TZOFFSETFROM:+0000
TZOFFSETTO:+0100
TZNAME:BST
DTSTART:20240331T010000
END:DAYLIGHT
BEGIN:STANDARD
TZOFFSETFROM:+0100
TZOFFSETTO:+0000
TZNAME:GMT
DTSTART:20241027T010000
END:STANDARD
END:VTIMEZONE
BEGIN:VEVENT
DTSTART;TZID=Europe/London:20240911T090000
DTEND;TZID=Europe/London:20240911T153000
DTSTAMP:20260424T141710
CREATED:20240717T125624Z
LAST-MODIFIED:20240717T125905Z
UID:31752-1726045200-1726068600@www.resapol.com
SUMMARY:Alliance Industry Day
DESCRIPTION:The Structural Concrete Alliance\, 2024 Industry Day\, will focus on the crucial theme of sustainability in construction practices. The event will bring together attendees from the Concrete Repair Association (CRA)\, Corrosion Prevention Association (CPA)\, Sprayed Concrete Association (SCA) and wider. \nThe day will comprise of presentations and a panel discussion from industry leading experts such as National Highways\, The Department of business and Trade and more. The day promises to deliver informative information\, discussion and insight on the challanges and routes being taken to achieve a sustainable future for our businesses and industry as a whole. \nThe event will run from 9:00pm until 15:30pm on 11th September 2024. \n\nDon’t miss out\, reserve your place today! \nBook Now
URL:https://www.resapol.com/event/alliance-industry-day/
LOCATION:Radisson Blu Hotel Bloomsbury\, Bloomsbury Street\, London\, WC1B 3QD\, United Kingdom
ATTACH;FMTTYPE=image/jpeg:https://www.resapol.com/wp-content/uploads/2024/07/Industry-Day-Signature-.jpg
END:VEVENT
END:VCALENDAR